BEGIN:VCALENDAR
VERSION:2.0
PRODID:-//Olosophia - ECPv6.15.18//NONSGML v1.0//EN
CALSCALE:GREGORIAN
METHOD:PUBLISH
X-WR-CALNAME:Olosophia
X-ORIGINAL-URL:https://olosophia.it
X-WR-CALDESC:Eventi per Olosophia
REFRESH-INTERVAL;VALUE=DURATION:PT1H
X-Robots-Tag:noindex
X-PUBLISHED-TTL:PT1H
BEGIN:VTIMEZONE
TZID:Europe/Rome
BEGIN:DAYLIGHT
TZOFFSETFROM:+0100
TZOFFSETTO:+0200
TZNAME:CEST
DTSTART:20250330T010000
END:DAYLIGHT
BEGIN:STANDARD
TZOFFSETFROM:+0200
TZOFFSETTO:+0100
TZNAME:CET
DTSTART:20251026T010000
END:STANDARD
BEGIN:DAYLIGHT
TZOFFSETFROM:+0100
TZOFFSETTO:+0200
TZNAME:CEST
DTSTART:20260329T010000
END:DAYLIGHT
BEGIN:STANDARD
TZOFFSETFROM:+0200
TZOFFSETTO:+0100
TZNAME:CET
DTSTART:20261025T010000
END:STANDARD
BEGIN:DAYLIGHT
TZOFFSETFROM:+0100
TZOFFSETTO:+0200
TZNAME:CEST
DTSTART:20270328T010000
END:DAYLIGHT
BEGIN:STANDARD
TZOFFSETFROM:+0200
TZOFFSETTO:+0100
TZNAME:CET
DTSTART:20271031T010000
END:STANDARD
END:VTIMEZONE
BEGIN:VEVENT
DTSTART;TZID=Europe/Rome:20260613T090000
DTEND;TZID=Europe/Rome:20260613T180000
DTSTAMP:20260422T123127
CREATED:20260317T165523Z
LAST-MODIFIED:20260317T165523Z
UID:2592-1781341200-1781373600@olosophia.it
SUMMARY:Kinesiologia Funzionale applicata
DESCRIPTION:Terranno il corso: Prof Giacomo Pagliaro\, kinesiologo\, biologo nutrizionista\, docente universitario. \nDott.ssa Lisa Del Bianco\, kinesiologa naturopata. \nLa formazione è meravigliosamente pratica con la creazione di gruppi  tra gli allievi che saranno supervisionati e guidati dai docenti in tutte le giornate. Verranno insegnati protocolli applicabili anche alla Medicina Tradizionale Cinese. \n  \nper info e costi contattare Olos erboristeria  071 7930217 \n  \n  \n  \n  \n 
URL:https://olosophia.it/evento/kinesiologia-funzionale-applicata-3/
ATTACH;FMTTYPE=image/jpeg:https://olosophia.it/wp-content/uploads/2026/03/8701e55c-4f60-46ed-bc3c-7f86139f5f11.jpg
END:VEVENT
BEGIN:VEVENT
DTSTART;TZID=Europe/Rome:20260614T090000
DTEND;TZID=Europe/Rome:20260614T130000
DTSTAMP:20260422T123127
CREATED:20260317T172136Z
LAST-MODIFIED:20260317T172136Z
UID:2599-1781427600-1781442000@olosophia.it
SUMMARY:Kinesiologia Funzionale applicata
DESCRIPTION:Terranno il corso: Prof. Giacomo Pagliaro kinesiologo\, biologo nutrizionista\, docente universitario. \nDott.ssa Lisa Del Bianco kinesiologa\, naturopata. \nLa formazione è meravigliosamente pratica con la creazione di gruppi tra gli allievi che saranno supervisionati e guidati dai docenti in tutte le giornate. Verranno insegnati protocolli applicabili anche alla Medicina Tradizionale Cinese. \n  \nper info e costi contattare Olos erboristeria 071 7930217 \n  \n  \n  \n  \n  \n  \n  \n 
URL:https://olosophia.it/evento/kinesiologia-funzionale-applicata-4/
ATTACH;FMTTYPE=image/jpeg:https://olosophia.it/wp-content/uploads/2026/03/8701e55c-4f60-46ed-bc3c-7f86139f5f11.jpg
END:VEVENT
END:VCALENDAR